BEGIN:VCALENDAR
VERSION:2.0
PRODID:-//https://hollandgolfevents.nl///NONSGML kigkonsult.se iCalcreator 2.10.15//
METHOD:PUBLISH
BEGIN:VEVENT
UID:20260424T181601CEST-8012sivhFh@https://hollandgolfevents.nl/
DTSTAMP:20260424T161601Z
DESCRIPTION:Wedstrijdinfo\n\nStarten vanaf 12:01 uur \nStart vanaf hole 1 e
 n 10 (Peer en Appel)\nDe wedstrijdvorm is individueel stableford\nMaximale
  handicap voor inschrijving is 54. Maximale wedstrijdhandicap is 36.0. Dee
 lnemers krijgen op de woensdag voorafgaand aan de wedstrijd de startlijst\
 , met het verzoek de eventueel gewijzigde handicap door te geven voor vrij
 dag 12.00 uur.\nDe deelnamekosten bedragen € 119\,95\nVoor leden van Golfb
 aan de Batouwe bedragen de deelnamekosten € 59\,95 (vink aan dat je lid be
 nt en gebruik kortingscode LID)\n\nInclusief:\n\nDagmenu\n4 consumpties\nG
 oodiebag\nWedstrijdleiding\nPrijzentafel \n\nDeze wedstrijd maakt onderdee
 l uit van de TUI CUP 2026\, powered by Sueno Hotels. Een individuele wedst
 rijd op 5 verschillende banen\, waarbij je 3 beste scores meetellen voor h
 et eindklassement.\nOverige data zijn:\n\n30-5 Golfclub Bergvliet\n27-6 Go
 lfclub Almeerderhout\n4-7 De Kroonprins\n11-7 De Hooge Rotterdamsche\n\nBi
 jlagen\nAlgemeen wedstrijdreglement\n  https://hollandgolfevents.nl/tui-cu
 p-2026/evenement/93-tui-cup-voorjaar-ronde-2
DTSTART;VALUE=DATE:20260613
LOCATION:Golfbaan De Batouwe (Oost Kanaalweg 1\, 4011 LA Zoelen)
SUMMARY:TUI CUP Voorjaar Ronde 2
URL:https://hollandgolfevents.nl/tui-cup-2026/evenement/93-tui-cup-voorjaar
 -ronde-2
END:VEVENT
END:VCALENDAR
