BEGIN:VCALENDAR
VERSION:2.0
PRODID:-//https://hollandgolfevents.nl///NONSGML kigkonsult.se iCalcreator 2.10.15//
METHOD:PUBLISH
BEGIN:VEVENT
UID:20260424T181707CEST-1168nuDetC@https://hollandgolfevents.nl/
DTSTAMP:20260424T161707Z
DESCRIPTION:Wedstrijdinfo\n\nStarten vanaf 12:00 uur \nStart vanaf hole 1 e
 n 10 \nDe wedstrijdvorm is individueel stableford\nMaximale handicap voor 
 inschrijving is 54. Maximale wedstrijdhandicap is 36.0. Deelnemers krijgen
  op de woensdag voorafgaand aan de wedstrijd de startlijst\, met het verzo
 ek de eventueel gewijzigde handicap door te geven voor vrijdag 12.00 uur.
 \nDe deelnamekosten bedragen € 119\,95\nVoor leden van Golfclub Almeerderh
 out bedragen de deelnamekosten € 59\,95 (vink aan dat je lid bent en gebru
 ik kortingscode LID)\n\nInclusief:\n\nDagmenu\n4 consumpties\nGoodiebag\nW
 edstrijdleiding\nPrijzentafel \n\nDeze wedstrijd maakt onderdeel uit van d
 e TUI CUP 2026\, powered by Sueno Hotels. Een individuele wedstrijd op 5 v
 erschillende banen\, waarbij je 3 beste scores meetellen voor het eindklas
 sement.\nOverige data zijn:\n\n30-5 Golfclub Bergvliet\n13-6 Golfbaan De B
 atouwe \n4-7 De Kroonprins\n11-7 De Hooge Rotterdamsche\n\nBijlagen\nAlgem
 een wedstrijdreglement  https://hollandgolfevents.nl/tui-cup-2026/evenemen
 t/94-tui-cup-voorjaar-ronde-3
DTSTART;VALUE=DATE:20260627
LOCATION:Golfclub Almeerderhout (Watersnipweg 19-21\, 1341 AA Almere\, Nede
 rland)
SUMMARY:TUI CUP Voorjaar Ronde 3
URL:https://hollandgolfevents.nl/tui-cup-2026/evenement/94-tui-cup-voorjaar
 -ronde-3
END:VEVENT
END:VCALENDAR
