BEGIN:VCALENDAR
VERSION:2.0
PRODID:-//https://hollandgolfevents.nl///NONSGML kigkonsult.se iCalcreator 2.10.15//
METHOD:PUBLISH
BEGIN:VEVENT
UID:20260424T181135CEST-5936J6pXrO@https://hollandgolfevents.nl/
DTSTAMP:20260424T161135Z
DESCRIPTION:Wedstrijdinfo\n\nStarten vanaf 11:30 uur\nStart vanaf hole 1 en
  10 \nDe wedstrijdvorm is individueel stableford\nMaximale handicap voor i
 nschrijving is 54. Maximale wedstrijdhandicap is 36.0. Deelnemers krijgen 
 op de woensdag voorafgaand aan de wedstrijd de startlijst\, met het verzoe
 k de eventueel gewijzigde handicap door te geven voor vrijdag 12.00 uur.\n
 De deelnamekosten bedragen € 119\,95\nVoor leden van Golfclub Havelte bedr
 agen de deelnamekosten € 59\,95 (vink aan dat je lid bent en gebruik korti
 ngscode LID)\n\nInclusief:\n\nDagmenu\n4 consumpties\nGoodiebag\nWedstrijd
 leiding\nPrijzentafel \n\nDeze wedstrijd maakt onderdeel uit van de TUI CU
 P 2026\, powered by Robinson. Een individuele wedstrijd op 5 verschillende
  banen\, waarbij je 3 beste scores meetellen voor het eindklassement.\nOve
 rige data zijn:\n\n12-9 De Zaanse\n19-9 Golfclub Zeegersloot\n26-9 De Hoge
  Dijk\n03-10 Golfpark Wilnis\n\nBijlagen\nAlgemeen wedstrijdreglement http
 s://hollandgolfevents.nl/tui-cup-2026/evenement/97-tui-cup-najaar-ronde-1
DTSTART;VALUE=DATE:20260905
LOCATION:Golf Club Havelte (Kolonieweg 2\, 7971 RA Havelte\, Nederland)
SUMMARY:TUI CUP Najaar Ronde 1
URL:https://hollandgolfevents.nl/tui-cup-2026/evenement/97-tui-cup-najaar-r
 onde-1
END:VEVENT
END:VCALENDAR
