BEGIN:VCALENDAR
VERSION:2.0
PRODID:-//https://hollandgolfevents.nl///NONSGML kigkonsult.se iCalcreator 2.10.15//
METHOD:PUBLISH
BEGIN:VEVENT
UID:20260424T181111CEST-4439Zdk3XH@https://hollandgolfevents.nl/
DTSTAMP:20260424T161111Z
DESCRIPTION:Wedstrijdinfo\n\nStarten vanaf 11:30 uur\nStart vanaf hole 1\nD
 e wedstrijdvorm is individueel stableford\nMaximale handicap voor inschrij
 ving is 54. Maximale wedstrijdhandicap is 36.0. Deelnemers krijgen op de w
 oensdag voorafgaand aan de wedstrijd de startlijst\, met het verzoek de ev
 entueel gewijzigde handicap door te geven voor vrijdag 12.00 uur.\nDe deel
 namekosten bedragen € 119\,95\nVoor leden van Golfclub Zeegersloot bedrage
 n de deelnamekosten € 59\,95 (vink aan dat je lid bent en gebruik kortings
 code LID)\n\nInclusief:\n\nDagmenu\n4 consumpties\nGoodiebag\nWedstrijdlei
 ding\nPrijzentafel \n\nDeze wedstrijd maakt onderdeel uit van de TUI CUP 2
 026\, powered by Robinson. Een individuele wedstrijd op 5 verschillende ba
 nen\, waarbij je 3 beste scores meetellen voor het eindklassement.\nOverig
 e data zijn:\n\n15-9 Golfclub Havelte\n12-9 De Zaanse\n26-9 De Hoge Dijk\n
 03-10 Golfpark Wilnis\n\nAlgemeen wedstrijdreglement https://hollandgolfev
 ents.nl/tui-cup-2026/evenement/99-tui-cup-najaar-ronde-3
DTSTART;VALUE=DATE:20260919
LOCATION:Golfclub Zeegersloot (Kromme Aarweg 5\, 2403 NB\, Alphen aan den R
 ijn\, Nederland)
SUMMARY:TUI CUP Najaar Ronde 3
URL:https://hollandgolfevents.nl/tui-cup-2026/evenement/99-tui-cup-najaar-r
 onde-3
END:VEVENT
END:VCALENDAR
