BEGIN:VCALENDAR
VERSION:2.0
PRODID:-//https://hollandgolfevents.nl///NONSGML kigkonsult.se iCalcreator 2.10.15//
METHOD:PUBLISH
BEGIN:VEVENT
UID:20260424T163903CEST-2372uG61F3@https://hollandgolfevents.nl/
DTSTAMP:20260424T143903Z
DESCRIPTION:Wedstrijdinfo\n\nStarten vanaf 12:00 uur \nStart vanaf hole 1 
 \nDe wedstrijdvorm is individueel stableford\nMaximale handicap voor insch
 rijving is 54. Maximale wedstrijdhandicap is 36.0. Deelnemers krijgen op d
 e woensdag voorafgaand aan de wedstrijd de startlijst\, met het verzoek de
  eventueel gewijzigde handicap door te geven voor vrijdag 12.00 uur.\nDe d
 eelnamekosten bedragen € 119\,95\nVoor leden van Golfclub Bergvliet bedrag
 en de deelnamekosten € 59\,95 (vink aan dat je lid bent en gebruik korting
 scode LID)\n\nInclusief:\n\nDagschotel\n4 consumpties p.p.\nGoodiebag\nWed
 strijdleiding\nPrijzentafel \n\nDeze wedstrijd maakt onderdeel uit van de 
 TUI CUP 2026\, powered by Sueno Hotels. Een individuele wedstrijd op 5 ver
 schillende banen\, waarbij je 3 beste scores meetellen voor het eindklasse
 ment.\nOverige data zijn:\n\n13-6 Golfbaan De Batouwe\n27-6 Golfclub Almee
 rderhout\n4-7 De Kroonprins\n11-7 De Hooge Rotterdamsche\n\nBijlagen\nAlge
 meen wedstrijdreglement https://hollandgolfevents.nl/tui-cup-2026/evenemen
 t/92-tui-cup-voorjaar-ronde-1
DTSTART;VALUE=DATE:20260530
LOCATION:Golfclub Bergvliet (Salesdreef 2\, 4904 SW Oosterhout\, Nederland)
SUMMARY:TUI CUP Voorjaar Ronde 1
URL:https://hollandgolfevents.nl/tui-cup-2026/evenement/92-tui-cup-voorjaar
 -ronde-1
END:VEVENT
BEGIN:VEVENT
UID:20260424T163903CEST-2376E2DUCv@https://hollandgolfevents.nl/
DTSTAMP:20260424T143903Z
DESCRIPTION:Wedstrijdinfo\n\nStarten vanaf 12:01 uur \nStart vanaf hole 1 e
 n 10 (Peer en Appel)\nDe wedstrijdvorm is individueel stableford\nMaximale
  handicap voor inschrijving is 54. Maximale wedstrijdhandicap is 36.0. Dee
 lnemers krijgen op de woensdag voorafgaand aan de wedstrijd de startlijst\
 , met het verzoek de eventueel gewijzigde handicap door te geven voor vrij
 dag 12.00 uur.\nDe deelnamekosten bedragen € 119\,95\nVoor leden van Golfb
 aan de Batouwe bedragen de deelnamekosten € 59\,95 (vink aan dat je lid be
 nt en gebruik kortingscode LID)\n\nInclusief:\n\nDagmenu\n4 consumpties\nG
 oodiebag\nWedstrijdleiding\nPrijzentafel \n\nDeze wedstrijd maakt onderdee
 l uit van de TUI CUP 2026\, powered by Sueno Hotels. Een individuele wedst
 rijd op 5 verschillende banen\, waarbij je 3 beste scores meetellen voor h
 et eindklassement.\nOverige data zijn:\n\n30-5 Golfclub Bergvliet\n27-6 Go
 lfclub Almeerderhout\n4-7 De Kroonprins\n11-7 De Hooge Rotterdamsche\n\nBi
 jlagen\nAlgemeen wedstrijdreglement\n  https://hollandgolfevents.nl/tui-cu
 p-2026/evenement/93-tui-cup-voorjaar-ronde-2
DTSTART;VALUE=DATE:20260613
LOCATION:Golfbaan De Batouwe (Oost Kanaalweg 1\, 4011 LA Zoelen)
SUMMARY:TUI CUP Voorjaar Ronde 2
URL:https://hollandgolfevents.nl/tui-cup-2026/evenement/93-tui-cup-voorjaar
 -ronde-2
END:VEVENT
BEGIN:VEVENT
UID:20260424T163903CEST-2379Ae7IfN@https://hollandgolfevents.nl/
DTSTAMP:20260424T143903Z
DESCRIPTION:Wedstrijdinfo\n\nStarten vanaf 12:00 uur \nStart vanaf hole 1 e
 n 10 \nDe wedstrijdvorm is individueel stableford\nMaximale handicap voor 
 inschrijving is 54. Maximale wedstrijdhandicap is 36.0. Deelnemers krijgen
  op de woensdag voorafgaand aan de wedstrijd de startlijst\, met het verzo
 ek de eventueel gewijzigde handicap door te geven voor vrijdag 12.00 uur.
 \nDe deelnamekosten bedragen € 119\,95\nVoor leden van Golfclub Almeerderh
 out bedragen de deelnamekosten € 59\,95 (vink aan dat je lid bent en gebru
 ik kortingscode LID)\n\nInclusief:\n\nDagmenu\n4 consumpties\nGoodiebag\nW
 edstrijdleiding\nPrijzentafel \n\nDeze wedstrijd maakt onderdeel uit van d
 e TUI CUP 2026\, powered by Sueno Hotels. Een individuele wedstrijd op 5 v
 erschillende banen\, waarbij je 3 beste scores meetellen voor het eindklas
 sement.\nOverige data zijn:\n\n30-5 Golfclub Bergvliet\n13-6 Golfbaan De B
 atouwe \n4-7 De Kroonprins\n11-7 De Hooge Rotterdamsche\n\nBijlagen\nAlgem
 een wedstrijdreglement  https://hollandgolfevents.nl/tui-cup-2026/evenemen
 t/94-tui-cup-voorjaar-ronde-3
DTSTART;VALUE=DATE:20260627
LOCATION:Golfclub Almeerderhout (Watersnipweg 19-21\, 1341 AA Almere\, Nede
 rland)
SUMMARY:TUI CUP Voorjaar Ronde 3
URL:https://hollandgolfevents.nl/tui-cup-2026/evenement/94-tui-cup-voorjaar
 -ronde-3
END:VEVENT
BEGIN:VEVENT
UID:20260424T163903CEST-2382FODlMu@https://hollandgolfevents.nl/
DTSTAMP:20260424T143903Z
DESCRIPTION:Wedstrijdinfo\n\nStarten vanaf 11:30 uur\nStart vanaf hole 1 en
  10\nDe wedstrijdvorm is individueel stableford\nMaximale handicap voor in
 schrijving is 54. Maximale wedstrijdhandicap is 36.0. Deelnemers krijgen o
 p de woensdag voorafgaand aan de wedstrijd de startlijst\, met het verzoek
  de eventueel gewijzigde handicap door te geven voor vrijdag 12.00 uur.\nD
 e deelnamekosten bedragen € 119\,95\nVoor leden van Golfbaan De Kroonprins
  bedragen de deelnamekosten € 59\,95 (vink aan dat je lid bent en gebruik 
 kortingscode LID)\n\nInclusief:\n\nDagmenu\n4 consumpties\nGoodiebag\nWeds
 trijdleiding\nPrijzentafel \n\nDeze wedstrijd maakt onderdeel uit van de T
 UI CUP 2026\, powered by Sueno Hotels. Een individuele wedstrijd op 5 vers
 chillende banen\, waarbij je 3 beste scores meetellen voor het eindklassem
 ent.\nOverige data zijn:\n\n30-5 Bergvliet\n13-6 De Batouwe\n27-6 Almeerde
 rhout\n11-07 De Hooge Rotterdamsche\n\nBijlagen\n Algemeen wedstrijdreglem
 ent https://hollandgolfevents.nl/tui-cup-2026/evenement/95-tui-cup-voorjaa
 r-ronde-4
DTSTART;VALUE=DATE:20260704
LOCATION:De Kroonprins (Merwedekade 8\, 4131 NZ Vianen\, Nederland)
SUMMARY:TUI CUP Voorjaar Ronde 4
URL:https://hollandgolfevents.nl/tui-cup-2026/evenement/95-tui-cup-voorjaar
 -ronde-4
END:VEVENT
BEGIN:VEVENT
UID:20260424T163903CEST-2386ksV0Vz@https://hollandgolfevents.nl/
DTSTAMP:20260424T143903Z
DESCRIPTION:Wedstrijdinfo\n\nStarten vanaf 12:36 uur \nStart vanaf hole 1 e
 n 10\nDe wedstrijdvorm is individueel stableford\nMaximale handicap voor i
 nschrijving is 54. Maximale wedstrijdhandicap is 36.0. Deelnemers krijgen 
 op de woensdag voorafgaand aan de wedstrijd de startlijst\, met het verzoe
 k de eventueel gewijzigde handicap door te geven voor vrijdag 12.00 uur.\n
 De deelnamekosten bedragen € 129\,95\nVoor leden van De Hooge Rotterdamsch
 e bedragen de deelnamekosten € 69\,95 (vink aan dat je lid bent en gebruik
  kortingscode LID)\n\nDeze finaledag krijgt een extra feestelijke aankledi
 ng met aanvullende sponsoring en mogelijk een aantal leuke extra's.\nInclu
 sief:\n\nDagmenu\n4 consumpties\nGoodiebag\nWedstrijdleiding\nPrijzentafel
  \n\nDeze wedstrijd maakt onderdeel uit van de TUI CUP 2026\, powered by S
 ueno Hotels. Een individuele wedstrijd op 5 verschillende banen\, waarbij 
 je 3 beste scores meetellen voor het eindklassement.\nOverige data zijn:\n
 \n30-5 Golfclub Bergvliet\n13-6 Golfbaan De Batouwe\n27-6 Golfclub Almeerd
 erhout\n4-7 De Kroonprins\n\nBijlagen\n Algemeen wedstrijdreglement https:
 //hollandgolfevents.nl/tui-cup-2026/evenement/96-tui-cup-voorjaar-finale
DTSTART;VALUE=DATE:20260711
LOCATION:De Hooge Rotterdamsche (Rottebandreef 40\, 2661 JK Bergschenhoek\,
  Nederland)
SUMMARY:TUI CUP Voorjaar Finale
URL:https://hollandgolfevents.nl/tui-cup-2026/evenement/96-tui-cup-voorjaar
 -finale
END:VEVENT
BEGIN:VEVENT
UID:20260424T163903CEST-2389uI5I1C@https://hollandgolfevents.nl/
DTSTAMP:20260424T143903Z
DESCRIPTION:Wedstrijdinfo\n\nStarten vanaf 11:30 uur\nStart vanaf hole 1 en
  10 \nDe wedstrijdvorm is individueel stableford\nMaximale handicap voor i
 nschrijving is 54. Maximale wedstrijdhandicap is 36.0. Deelnemers krijgen 
 op de woensdag voorafgaand aan de wedstrijd de startlijst\, met het verzoe
 k de eventueel gewijzigde handicap door te geven voor vrijdag 12.00 uur.\n
 De deelnamekosten bedragen € 119\,95\nVoor leden van Golfclub Havelte bedr
 agen de deelnamekosten € 59\,95 (vink aan dat je lid bent en gebruik korti
 ngscode LID)\n\nInclusief:\n\nDagmenu\n4 consumpties\nGoodiebag\nWedstrijd
 leiding\nPrijzentafel \n\nDeze wedstrijd maakt onderdeel uit van de TUI CU
 P 2026\, powered by Robinson. Een individuele wedstrijd op 5 verschillende
  banen\, waarbij je 3 beste scores meetellen voor het eindklassement.\nOve
 rige data zijn:\n\n12-9 De Zaanse\n19-9 Golfclub Zeegersloot\n26-9 De Hoge
  Dijk\n03-10 Golfpark Wilnis\n\nBijlagen\nAlgemeen wedstrijdreglement http
 s://hollandgolfevents.nl/tui-cup-2026/evenement/97-tui-cup-najaar-ronde-1
DTSTART;VALUE=DATE:20260905
LOCATION:Golf Club Havelte (Kolonieweg 2\, 7971 RA Havelte\, Nederland)
SUMMARY:TUI CUP Najaar Ronde 1
URL:https://hollandgolfevents.nl/tui-cup-2026/evenement/97-tui-cup-najaar-r
 onde-1
END:VEVENT
BEGIN:VEVENT
UID:20260424T163903CEST-2392sTxduj@https://hollandgolfevents.nl/
DTSTAMP:20260424T143903Z
DESCRIPTION:Wedstrijdinfo\n\nStarten vanaf 12:00 uur \nStart vanaf hole 1 e
 n 10 \nDe wedstrijdvorm is individueel stableford\nMaximale handicap voor 
 inschrijving is 54. Maximale wedstrijdhandicap is 36.0. Deelnemers krijgen
  op de woensdag voorafgaand aan de wedstrijd de startlijst\, met het verzo
 ek de eventueel gewijzigde handicap door te geven voor vrijdag 12.00 uur.
 \nDe deelnamekosten bedragen € 119\,95\nVoor leden van De Zaanse bedragen 
 de deelnamekosten € 59\,95 (vink aan dat je lid bent en gebruik kortingsco
 de LID)\n\nInclusief:\n\nDagmenu\n4 consumpties\nGoodiebag\nWedstrijdleidi
 ng\nPrijzentafel \n\nDeze wedstrijd maakt onderdeel uit van de TUI CUP 202
 6\, powered by Robinson. Een individuele wedstrijd op 5 verschillende bane
 n\, waarbij je 3 beste scores meetellen voor het eindklassement.\nOverige 
 data zijn:\n\n5-9 Havelte\n19-9 Golfclub Zeegersloot\n26-9 De Hoge Dijk\n0
 3-10 Golfpark Wilnis\n\nAlgemeen wedstrijdreglement https://hollandgolfeve
 nts.nl/tui-cup-2026/evenement/98-tui-cup-najaar-ronde-2
DTSTART;VALUE=DATE:20260912
LOCATION:Zaanse Golfclub (Zuiderweg 68A\, 1456NH\, 1456 NH Wijdewormer\, Ne
 derland)
SUMMARY:TUI CUP Najaar Ronde 2
URL:https://hollandgolfevents.nl/tui-cup-2026/evenement/98-tui-cup-najaar-r
 onde-2
END:VEVENT
BEGIN:VEVENT
UID:20260424T163903CEST-2395znUVPa@https://hollandgolfevents.nl/
DTSTAMP:20260424T143903Z
DESCRIPTION:Wedstrijdinfo\n\nStarten vanaf 11:30 uur\nStart vanaf hole 1\nD
 e wedstrijdvorm is individueel stableford\nMaximale handicap voor inschrij
 ving is 54. Maximale wedstrijdhandicap is 36.0. Deelnemers krijgen op de w
 oensdag voorafgaand aan de wedstrijd de startlijst\, met het verzoek de ev
 entueel gewijzigde handicap door te geven voor vrijdag 12.00 uur.\nDe deel
 namekosten bedragen € 119\,95\nVoor leden van Golfclub Zeegersloot bedrage
 n de deelnamekosten € 59\,95 (vink aan dat je lid bent en gebruik kortings
 code LID)\n\nInclusief:\n\nDagmenu\n4 consumpties\nGoodiebag\nWedstrijdlei
 ding\nPrijzentafel \n\nDeze wedstrijd maakt onderdeel uit van de TUI CUP 2
 026\, powered by Robinson. Een individuele wedstrijd op 5 verschillende ba
 nen\, waarbij je 3 beste scores meetellen voor het eindklassement.\nOverig
 e data zijn:\n\n15-9 Golfclub Havelte\n12-9 De Zaanse\n26-9 De Hoge Dijk\n
 03-10 Golfpark Wilnis\n\nAlgemeen wedstrijdreglement https://hollandgolfev
 ents.nl/tui-cup-2026/evenement/99-tui-cup-najaar-ronde-3
DTSTART;VALUE=DATE:20260919
LOCATION:Golfclub Zeegersloot (Kromme Aarweg 5\, 2403 NB\, Alphen aan den R
 ijn\, Nederland)
SUMMARY:TUI CUP Najaar Ronde 3
URL:https://hollandgolfevents.nl/tui-cup-2026/evenement/99-tui-cup-najaar-r
 onde-3
END:VEVENT
BEGIN:VEVENT
UID:20260424T163903CEST-2398eFfwci@https://hollandgolfevents.nl/
DTSTAMP:20260424T143903Z
DESCRIPTION:Wedstrijdinfo\n\nStarten vanaf 12:40\nStart vanaf hole 1 en 10 
 \nDe wedstrijdvorm is individueel stableford\nMaximale handicap voor insch
 rijving is 54. Maximale wedstrijdhandicap is 36.0. Deelnemers krijgen op d
 e woensdag voorafgaand aan de wedstrijd de startlijst\, met het verzoek de
  eventueel gewijzigde handicap door te geven voor vrijdag 12.00 uur.\nDe d
 eelnamekosten bedragen € 119\,95\nVoor leden van Golfbaan De Hoge Dijk bed
 ragen de deelnamekosten € 59\,95 (vink aan dat je lid bent en gebruik kort
 ingscode LID)\n\nInclusief:\n\nDagmenu\n4 consumpties\nGoodiebag\nWedstrij
 dleiding\nPrijzentafel \n\nDeze wedstrijd maakt onderdeel uit van de TUI C
 UP 2026\, powered by Robinson. Een individuele wedstrijd op 5 verschillend
 e banen\, waarbij je 3 beste scores meetellen voor het eindklassement.\nOv
 erige data zijn:\n\n5-9 Golfclub Havelte\n12-9 De Zaanse\n19-9 Golfclub Ze
 egersloot\n03-10 Golfpark Wilnis\n\nAlgemeen wedstrijdreglement https://ho
 llandgolfevents.nl/tui-cup-2026/evenement/100-tui-cup-najaar-ronde-4
DTSTART;VALUE=DATE:20260926
LOCATION:De Hoge Dijk (Abcouderstraatweg 46\, 1105 AA Amsterdam\, Nederland
 )
SUMMARY:TUI CUP Najaar Ronde 4
URL:https://hollandgolfevents.nl/tui-cup-2026/evenement/100-tui-cup-najaar-
 ronde-4
END:VEVENT
BEGIN:VEVENT
UID:20260424T163903CEST-2402rRD4bW@https://hollandgolfevents.nl/
DTSTAMP:20260424T143903Z
DESCRIPTION:Wedstrijdinfo\n\nStarten vanaf 11:30 uur\nStart vanaf hole 1 en
  10\nDe wedstrijdvorm is individueel stableford\nMaximale handicap voor in
 schrijving is 54. Maximale wedstrijdhandicap is 36.0. Deelnemers krijgen o
 p de woensdag voorafgaand aan de wedstrijd de startlijst\, met het verzoek
  de eventueel gewijzigde handicap door te geven voor vrijdag 12.00 uur.\nD
 e deelnamekosten bedragen € 129\,95\nVoor leden van Golfpark Wilnis bedrag
 en de deelnamekosten € 69\,95 (vink aan dat je lid bent en gebruik korting
 scode LID)\n\nDeze finaledag krijgt een extra feestelijke aankleding met a
 anvullende sponsoring en mogelijk een aantal leuke extra's.\nInclusief:\n
 \nDagmenu\n4 consumpties\nGoodiebag\nWedstrijdleiding\nPrijzentafel \n\nDe
 ze wedstrijd maakt onderdeel uit van de TUI CUP 2026\, powered by Robinson
 . Een individuele wedstrijd op 5 verschillende banen\, waarbij je 3 beste 
 scores meetellen voor het eindklassement.\nOverige data zijn:\n\n5-9 Golfc
 lub Havelte\n12-9 De Zaanse\n19-9 Golfclub Zeegersloot\n26-9 De Hoge Dijk
 \n\nAlgemeen wedstrijdreglement https://hollandgolfevents.nl/tui-cup-2026/
 evenement/101-tui-cup-najaar-finale
DTSTART;VALUE=DATE:20261003
LOCATION:Golfpark Wilnis (Bovendijk 16a 3648 NM Wilnis)
SUMMARY:TUI CUP Najaar Finale
URL:https://hollandgolfevents.nl/tui-cup-2026/evenement/101-tui-cup-najaar-
 finale
END:VEVENT
END:VCALENDAR
